BEGIN:VCALENDAR
PRODID:-//Session events Calendar//IBA//EN
CALSCALE:GREGORIAN
VERSION:2.0
BEGIN:VEVENT
DTSTAMP:20260424T185544Z
DTSTART:20250508T133000Z
DTEND:20250508T140000Z
SUMMARY:Coffee/tea break
DESCRIPTION:
LOCATION:
UID:6eb73ec5-4b64-4d6f-9a6f-a3f2dc598f80
END:VEVENT
END:VCALENDAR
