BEGIN:VCALENDAR
PRODID:-//Session events Calendar//IBA//EN
CALSCALE:GREGORIAN
VERSION:2.0
BEGIN:VEVENT
DTSTAMP:20260424T185544Z
DTSTART:20250509T063000Z
DTEND:20250509T150000Z
SUMMARY:Registration
DESCRIPTION:
LOCATION:
UID:825c3707-f2a9-4277-801e-7b60bf3595ca
END:VEVENT
END:VCALENDAR
