BEGIN:VCALENDAR
PRODID:-//Session events Calendar//IBA//EN
CALSCALE:GREGORIAN
VERSION:2.0
BEGIN:VEVENT
DTSTAMP:20260424T185544Z
DTSTART:20250509T084500Z
DTEND:20250509T091500Z
SUMMARY:Coffee/tea break
DESCRIPTION:
LOCATION:
UID:863082eb-eb82-4695-a84a-b30aa83044a8
END:VEVENT
END:VCALENDAR
