BEGIN:VCALENDAR
PRODID:-//Session events Calendar//IBA//EN
CALSCALE:GREGORIAN
VERSION:2.0
BEGIN:VEVENT
DTSTAMP:20260424T202708Z
DTSTART:20250509T131500Z
DTEND:20250509T134500Z
SUMMARY:Coffee/tea break
DESCRIPTION:
LOCATION:
UID:472a893a-c15f-45f5-b5b6-e1bdb4b1ad65
END:VEVENT
END:VCALENDAR
