BEGIN:VCALENDAR
PRODID:-//Session events Calendar//IBA//EN
CALSCALE:GREGORIAN
VERSION:2.0
BEGIN:VEVENT
DTSTAMP:20260424T202542Z
DTSTART:20250509T134500Z
DTEND:20250509T150000Z
SUMMARY:Post-IPO liquidity for major shareholders
DESCRIPTION:While international IPOs numbers remain below average\, secon
 dary sales of existing public companies have experienced robust growth i
 n recent years thanks to favorable market conditions\, particularly in E
 urope. Secondary sales by pre-IPO investors\, though\, can take a number
  of different forms and sizes\, including underwritten sales\, accelerat
 ed book builds\, open market sales (including pursuant to pre-determined
  plans) and issuer buybacks\, dictated by\, among other things\, listing
  venue requirements\, trading volume and investor preference. This panel
  will discuss the various factors and considerations impacting the large
 st equity markets and potential regulatory and market developments that 
 may drive future activity and listing venue choices.
LOCATION:
UID:99920802-47e5-4e28-9f5f-c2b18ac7ada5
END:VEVENT
END:VCALENDAR
