BEGIN:VCALENDAR
PRODID:-//Session events Calendar//IBA//EN
CALSCALE:GREGORIAN
VERSION:2.0
BEGIN:VEVENT
DTSTAMP:20260424T185503Z
DTSTART:20250508T065500Z
DTEND:20250508T070000Z
SUMMARY:Welcome from the IBA Leadership
DESCRIPTION:
LOCATION:
UID:daba2f91-2264-4a4f-92e3-07f92b9f636b
END:VEVENT
END:VCALENDAR
