BEGIN:VCALENDAR
PRODID:-//Session events Calendar//IBA//EN
CALSCALE:GREGORIAN
VERSION:2.0
BEGIN:VEVENT
DTSTAMP:20260424T185503Z
DTSTART:20250509T103000Z
DTEND:20250509T120000Z
SUMMARY:Lunch
DESCRIPTION:
LOCATION:
UID:7b57a008-1ec4-4a68-8aee-c09948d8a82e
END:VEVENT
END:VCALENDAR
