BEGIN:VCALENDAR
PRODID:-//Session events Calendar//IBA//EN
CALSCALE:GREGORIAN
VERSION:2.0
BEGIN:VEVENT
DTSTAMP:20260419T235343Z
DTSTART:20250616T160100Z
DTEND:20250616T165900Z
SUMMARY:The state of international law under the new Trump era
DESCRIPTION:
LOCATION:
UID:aec216bb-54af-4bbc-852b-b946c005a14b
END:VEVENT
END:VCALENDAR
