BEGIN:VCALENDAR
PRODID:-//Session events Calendar//IBA//EN
CALSCALE:GREGORIAN
VERSION:2.0
BEGIN:VEVENT
DTSTAMP:20260420T132824Z
DTSTART:20250919T110000Z
DTEND:20250919T123000Z
SUMMARY:Lunch
DESCRIPTION:
LOCATION:
UID:70d97868-5143-472b-9af9-c103caf3b966
END:VEVENT
END:VCALENDAR
