BEGIN:VCALENDAR
PRODID:-//Session events Calendar//IBA//EN
CALSCALE:GREGORIAN
VERSION:2.0
BEGIN:VEVENT
DTSTAMP:20260420T132741Z
DTSTART:20250918T110000Z
DTEND:20250918T123000Z
SUMMARY:Lunch
DESCRIPTION:
LOCATION:
UID:656a1cad-870f-40b7-ae84-e34b9976d4ee
END:VEVENT
END:VCALENDAR
