BEGIN:VCALENDAR
PRODID:-//Session events Calendar//IBA//EN
CALSCALE:GREGORIAN
VERSION:2.0
BEGIN:VEVENT
DTSTAMP:20260420T132739Z
DTSTART:20250918T063000Z
DTEND:20250918T141500Z
SUMMARY:Registration
DESCRIPTION:
LOCATION:
UID:eb998394-ef60-4b2b-9d30-09602bed865e
END:VEVENT
END:VCALENDAR
