BEGIN:VCALENDAR
PRODID:-//Session events Calendar//IBA//EN
CALSCALE:GREGORIAN
VERSION:2.0
BEGIN:VEVENT
DTSTAMP:20260420T132742Z
DTSTART:20250918T074500Z
DTEND:20250918T081500Z
SUMMARY:Keynote address
DESCRIPTION:
LOCATION:
UID:b235a87a-29db-473a-ac32-06b43b7b1525
END:VEVENT
END:VCALENDAR
