BEGIN:VCALENDAR
PRODID:-//Session events Calendar//IBA//EN
CALSCALE:GREGORIAN
VERSION:2.0
BEGIN:VEVENT
DTSTAMP:20260420T132742Z
DTSTART:20250918T123000Z
DTEND:20250918T134500Z
SUMMARY:Plenary session - The lawyer’s ESG mandate
DESCRIPTION:This session provides a foundational overview of environmenta
 l\, social and governance (ESG) principles and their growing impact on l
 egal practice across Africa. Topics include:\n\n\n	The future of ESG in 
 a polarised political landscape\n	Practical implications for legal advis
 ory work across sectors\n	How ESG intersects with core legal duties and 
 risk management responsibilities\n	The growing expectations on law firms
  and in-house teams to embed ESG in both advice and operations\n\n
LOCATION:
UID:969553bd-039f-432f-b34d-e8d9f766b519
END:VEVENT
END:VCALENDAR
