BEGIN:VCALENDAR
PRODID:-//Session events Calendar//IBA//EN
CALSCALE:GREGORIAN
VERSION:2.0
BEGIN:VEVENT
DTSTAMP:20260420T132741Z
DTSTART:20250919T053000Z
DTEND:20250919T123000Z
SUMMARY:Registration
DESCRIPTION:
LOCATION:
UID:90ca6ed5-478d-4ffc-bd5e-7245b6834d6e
END:VEVENT
END:VCALENDAR
