BEGIN:VCALENDAR
PRODID:-//Session events Calendar//IBA//EN
CALSCALE:GREGORIAN
VERSION:2.0
BEGIN:VEVENT
DTSTAMP:20260420T145727Z
DTSTART:20250919T143000Z
DTEND:20250919T144500Z
SUMMARY:Closing remarks
DESCRIPTION:
LOCATION:
UID:c475409c-aead-422d-a794-38c57bb9b786
END:VEVENT
END:VCALENDAR
