BEGIN:VCALENDAR
PRODID:-//Session events Calendar//IBA//EN
CALSCALE:GREGORIAN
VERSION:2.0
BEGIN:VEVENT
DTSTAMP:20260423T161023Z
DTSTART:20250825T071500Z
DTEND:20250825T081500Z
SUMMARY:Panel discussion two: Smart arbitration: How AI is changing the g
 ame (like it or not)
DESCRIPTION:Artificial intelligence is rapidly transforming arbitration—e
 nhancing efficiency\, streamlining legal research\, and even raising que
 stions about AI-assisted decision-making. However\, these advancements c
 ome with risks\, including concerns about bias\, transparency\, and ethi
 cal implications. This panel discussion will explore how AI is being use
 d in arbitration in practice\, what role it should (or shouldn’t) play i
 n the future\, and how practitioners can effectively integrate technolog
 y while safeguarding procedural fairness. Whether welcomed or resisted\,
  AI is here to stay\, and this panel discussion will provide valuable in
 sights into how arbitration professionals can navigate this evolving lan
 dscape.
LOCATION:
UID:578bb33c-1937-49cf-ad95-eba54d1cc0b9
END:VEVENT
END:VCALENDAR
