BEGIN:VCALENDAR
PRODID:-//Session events Calendar//IBA//EN
CALSCALE:GREGORIAN
VERSION:2.0
BEGIN:VEVENT
DTSTAMP:20260420T132739Z
DTSTART:20250918T093000Z
DTEND:20250918T100000Z
SUMMARY:Coffee/tea break
DESCRIPTION:
LOCATION:
UID:60d632d2-d0b1-4a10-903e-c74bd9c52163
END:VEVENT
END:VCALENDAR
