BEGIN:VCALENDAR
PRODID:-//Session events Calendar//IBA//EN
CALSCALE:GREGORIAN
VERSION:2.0
BEGIN:VEVENT
DTSTAMP:20260420T132739Z
DTSTART:20250918T134500Z
DTEND:20250918T141500Z
SUMMARY:Coffee/tea break
DESCRIPTION:
LOCATION:
UID:8124637a-3064-4458-9dbd-29ac8107b60a
END:VEVENT
END:VCALENDAR
