BEGIN:VCALENDAR
PRODID:-//Session events Calendar//IBA//EN
CALSCALE:GREGORIAN
VERSION:2.0
BEGIN:VEVENT
DTSTAMP:20260420T132739Z
DTSTART:20250919T090000Z
DTEND:20250919T093000Z
SUMMARY:Coffee/tea break
DESCRIPTION:
LOCATION:
UID:9cacf82e-b9bd-4b78-9322-054959a7b2bd
END:VEVENT
END:VCALENDAR
