BEGIN:VCALENDAR
PRODID:-//Session events Calendar//IBA//EN
CALSCALE:GREGORIAN
VERSION:2.0
BEGIN:VEVENT
DTSTAMP:20260420T145636Z
DTSTART:20250919T140000Z
DTEND:20250919T143000Z
SUMMARY:Coffee/tea break
DESCRIPTION:
LOCATION:
UID:667a1011-ccc7-4801-b2b9-42c920be8261
END:VEVENT
END:VCALENDAR
