BEGIN:VCALENDAR
PRODID:-//Session events Calendar//IBA//EN
CALSCALE:GREGORIAN
VERSION:2.0
BEGIN:VEVENT
DTSTAMP:20260419T124758Z
DTSTART:20251205T101500Z
DTEND:20251205T111500Z
SUMMARY:Cutting edge crypto cases
DESCRIPTION:A study into deep-fakes\, crypto scams\, and cutting edge tec
 hnology designed to make fraud easier and recovery harder
LOCATION:
UID:887c45e9-ce84-46ab-ae1c-7d8886ddd2a9
END:VEVENT
END:VCALENDAR
