BEGIN:VCALENDAR
PRODID:-//Session events Calendar//IBA//EN
CALSCALE:GREGORIAN
VERSION:2.0
BEGIN:VEVENT
DTSTAMP:20260425T105327Z
DTSTART:20251205T111500Z
DTEND:20251205T113500Z
SUMMARY:Coffee/tea break
DESCRIPTION:
LOCATION:
UID:bfc9e503-aa29-4c92-a25d-5d5acafd5e8b
END:VEVENT
END:VCALENDAR
