BEGIN:VCALENDAR
PRODID:-//Session events Calendar//IBA//EN
CALSCALE:GREGORIAN
VERSION:2.0
BEGIN:VEVENT
DTSTAMP:20260425T105327Z
DTSTART:20251205T123500Z
DTEND:20251205T133500Z
SUMMARY:Lunch
DESCRIPTION:
LOCATION:
UID:c114a6b2-7e25-45f3-b2b0-d98b9e30e148
END:VEVENT
END:VCALENDAR
