BEGIN:VCALENDAR
PRODID:-//Session events Calendar//IBA//EN
CALSCALE:GREGORIAN
VERSION:2.0
BEGIN:VEVENT
DTSTAMP:20260425T105327Z
DTSTART:20251205T133500Z
DTEND:20251205T143500Z
SUMMARY:Asset recovery in the Middle East - Abu Dhabi court enforcement-m
 aking the directions and paying it back – how?
DESCRIPTION:
LOCATION:
UID:710de8b0-e5b3-472f-9492-7c6a9b2e1f7b
END:VEVENT
END:VCALENDAR
