BEGIN:VCALENDAR
PRODID:-//Session events Calendar//IBA//EN
CALSCALE:GREGORIAN
VERSION:2.0
BEGIN:VEVENT
DTSTAMP:20260425T105327Z
DTSTART:20251205T143500Z
DTEND:20251205T153500Z
SUMMARY:IBA ARC open business meeting
DESCRIPTION:
LOCATION:
UID:5a1e41bb-ae4f-4fd6-98dc-e3993d4a957f
END:VEVENT
END:VCALENDAR
