BEGIN:VCALENDAR
PRODID:-//Session events Calendar//IBA//EN
CALSCALE:GREGORIAN
VERSION:2.0
BEGIN:VEVENT
DTSTAMP:20260424T170211Z
DTSTART:20250917T070000Z
DTEND:20250917T075000Z
SUMMARY:Networking breakfast
DESCRIPTION:
LOCATION:
UID:c0b438ec-012d-42b1-ba3f-76460e6dbed3
END:VEVENT
END:VCALENDAR
