BEGIN:VCALENDAR
PRODID:-//Session events Calendar//IBA//EN
CALSCALE:GREGORIAN
VERSION:2.0
BEGIN:VEVENT
DTSTAMP:20260424T170211Z
DTSTART:20250917T075000Z
DTEND:20250917T080000Z
SUMMARY:Introduction
DESCRIPTION:
LOCATION:
UID:1c432c13-8d34-4d4f-b1d2-a282bc529627
END:VEVENT
END:VCALENDAR
