BEGIN:VCALENDAR
PRODID:-//Session events Calendar//IBA//EN
CALSCALE:GREGORIAN
VERSION:2.0
BEGIN:VEVENT
DTSTAMP:20260420T151401Z
DTSTART:20250917T080000Z
DTEND:20250917T084500Z
SUMMARY:Private Equity deals globally
DESCRIPTION:Two leading private equity investment bankers from Goldman Sa
 chs will lead us through a review of the current state and last 12 month
 s of the PE world.
LOCATION:
UID:9280e758-92fd-4153-a62e-3ae228361611
END:VEVENT
END:VCALENDAR
