BEGIN:VCALENDAR
PRODID:-//Session events Calendar//IBA//EN
CALSCALE:GREGORIAN
VERSION:2.0
BEGIN:VEVENT
DTSTAMP:20260423T191006Z
DTSTART:20250917T084500Z
DTEND:20250917T092500Z
SUMMARY:Hit the road Jack: current issues in exits
DESCRIPTION:2025 has been predicted to be the year that exits finally com
 e to fruition. Four leading practitioners will talk about current deal i
 ssues they are seeing in their respective jurisdictions.
LOCATION:
UID:96993fc9-1c6f-4efe-98df-22873e0446a2
END:VEVENT
END:VCALENDAR
