BEGIN:VCALENDAR
PRODID:-//Session events Calendar//IBA//EN
CALSCALE:GREGORIAN
VERSION:2.0
BEGIN:VEVENT
DTSTAMP:20260424T170211Z
DTSTART:20250917T092500Z
DTEND:20250917T094500Z
SUMMARY:Coffee break
DESCRIPTION:
LOCATION:
UID:cc0d1f41-6e66-456c-82fe-d83d5c471b7f
END:VEVENT
END:VCALENDAR
