BEGIN:VCALENDAR
PRODID:-//Session events Calendar//IBA//EN
CALSCALE:GREGORIAN
VERSION:2.0
BEGIN:VEVENT
DTSTAMP:20260424T170051Z
DTSTART:20250917T094500Z
DTEND:20250917T102500Z
SUMMARY:Spotlight interview: Raymond Svider\, BC Partners
DESCRIPTION:Please join us in welcoming Raymond Svider who is the Chairma
 n of BC Partners as well as chair of the management committee. Raymond j
 oined BC in 1992 and has spent three decades investing capital\, managin
 g businesses and guiding the evolution of BC to success across changing 
 trends and markets.
LOCATION:
UID:337b2b2e-6c60-4279-8c98-cd75df3343dc
END:VEVENT
END:VCALENDAR
