BEGIN:VCALENDAR
PRODID:-//Session events Calendar//IBA//EN
CALSCALE:GREGORIAN
VERSION:2.0
BEGIN:VEVENT
DTSTAMP:20260424T170211Z
DTSTART:20250917T114500Z
DTEND:20250917T124500Z
SUMMARY:Lunch
DESCRIPTION:
LOCATION:
UID:fee04473-0828-442c-ba90-ce6bfb573b6b
END:VEVENT
END:VCALENDAR
