BEGIN:VCALENDAR
PRODID:-//Session events Calendar//IBA//EN
CALSCALE:GREGORIAN
VERSION:2.0
BEGIN:VEVENT
DTSTAMP:20260424T170211Z
DTSTART:20250917T124500Z
DTEND:20250917T132500Z
SUMMARY:Two steps forward\, one step back: fundraising in an unstable geo
 political environment
DESCRIPTION:The world has become a much more unpredictable place in the p
 ast year. Sponsors and Investors have had to adapt and reach back into t
 heir bag of tricks. A group of fundraising experts will guide you throug
 h the state of the world as it now exists.
LOCATION:
UID:2885e6b1-a302-489a-9a6e-ae798353294c
END:VEVENT
END:VCALENDAR
