BEGIN:VCALENDAR
PRODID:-//Session events Calendar//IBA//EN
CALSCALE:GREGORIAN
VERSION:2.0
BEGIN:VEVENT
DTSTAMP:20260424T170050Z
DTSTART:20250917T110500Z
DTEND:20250917T114500Z
SUMMARY:Sector update: healthcare
DESCRIPTION:Healthcare represented over 20% of global PE deal value in 20
 24 with over 1000 PE healthcare dealsin the US and over 150 in Europe. I
 t is one of the most resilient and prized sectors amongst investors. It 
 is also extraordinary broad\, with assets ranging from the heavily asset
 -backed through health tech and into complex intellectual property-inten
 sive areas such as pharmaceuticals. Leading experts will equip you with 
 valuable insights into PE segmentation\, key themes and sponsor focus fo
 r tomorrow.
LOCATION:
UID:59167d4c-bbdc-4384-924d-99d6d3ff4f27
END:VEVENT
END:VCALENDAR
