BEGIN:VCALENDAR
PRODID:-//Session events Calendar//IBA//EN
CALSCALE:GREGORIAN
VERSION:2.0
BEGIN:VEVENT
DTSTAMP:20260424T170051Z
DTSTART:20250917T141500Z
DTEND:20250917T143000Z
SUMMARY:Coffee break
DESCRIPTION:
LOCATION:
UID:a1dea9ae-7cd7-429b-bf29-28874cd9bd31
END:VEVENT
END:VCALENDAR
