BEGIN:VCALENDAR
PRODID:-//Session events Calendar//IBA//EN
CALSCALE:GREGORIAN
VERSION:2.0
BEGIN:VEVENT
DTSTAMP:20260424T170211Z
DTSTART:20250917T143000Z
DTEND:20250917T151000Z
SUMMARY:The global context: government affairs and private equity
DESCRIPTION:Nothing underscores the importance of government to the overa
 ll private equity market more than the recent bout of elections in vario
 us parts. We will be joined by deal experts and former government offici
 als to discuss how sponsors and counsel should think about managing the 
 risks and securing the benefits of government affairs.
LOCATION:
UID:4b726a95-c91d-4a37-aefa-671c9b13c339
END:VEVENT
END:VCALENDAR
