BEGIN:VCALENDAR
PRODID:-//Session events Calendar//IBA//EN
CALSCALE:GREGORIAN
VERSION:2.0
BEGIN:VEVENT
DTSTAMP:20260424T170051Z
DTSTART:20250917T155000Z
DTEND:20250917T160500Z
SUMMARY:Coffee break
DESCRIPTION:
LOCATION:
UID:415f1b80-123a-4a7c-a196-889e078bff51
END:VEVENT
END:VCALENDAR
