BEGIN:VCALENDAR
PRODID:-//Session events Calendar//IBA//EN
CALSCALE:GREGORIAN
VERSION:2.0
BEGIN:VEVENT
DTSTAMP:20260424T170050Z
DTSTART:20250917T160500Z
DTEND:20250917T165000Z
SUMMARY:The client’s view: sponsor general counsel
DESCRIPTION:This panel is for many the highlight of the conference. What 
 is keeping our clients awake at night? This is where the lawyers from pr
 ivate practice in our audience hear what their clients are worrying abou
 t and what they want to see from their outside counsel. The in-house law
 yers in our audience will pick up on the trends and challenges that thei
 r counterparts in major sponsor houses are tackling currently.
LOCATION:
UID:5a2153b1-d500-4462-ae9d-dab365ea1138
END:VEVENT
END:VCALENDAR
