BEGIN:VCALENDAR
PRODID:-//Session events Calendar//IBA//EN
CALSCALE:GREGORIAN
VERSION:2.0
BEGIN:VEVENT
DTSTAMP:20260424T170211Z
DTSTART:20250917T165000Z
DTEND:20250917T170000Z
SUMMARY:Wrap up
DESCRIPTION:
LOCATION:
UID:757e6550-5a32-4de4-8c89-412658f8fd4d
END:VEVENT
END:VCALENDAR
