BEGIN:VCALENDAR
PRODID:-//Session events Calendar//IBA//EN
CALSCALE:GREGORIAN
VERSION:2.0
BEGIN:VEVENT
DTSTAMP:20260424T170211Z
DTSTART:20250917T070000Z
DTEND:20250917T170000Z
SUMMARY:Registration
DESCRIPTION:
LOCATION:
UID:fd365f9a-a886-4f08-bcc8-c16ef398775e
END:VEVENT
END:VCALENDAR
