BEGIN:VCALENDAR
PRODID:-//Session events Calendar//IBA//EN
CALSCALE:GREGORIAN
VERSION:2.0
BEGIN:VEVENT
DTSTAMP:20260421T131618Z
DTSTART:20250909T120100Z
DTEND:20250909T125900Z
SUMMARY:Where will AI lead legal profession  to: ethical and business cha
 llenges for lawyers?
DESCRIPTION:
LOCATION:
UID:8decfc27-c770-4cf9-b8c4-a1f44553caa2
END:VEVENT
END:VCALENDAR
