BEGIN:VCALENDAR
PRODID:-//Session events Calendar//IBA//EN
CALSCALE:GREGORIAN
VERSION:2.0
BEGIN:VEVENT
DTSTAMP:20260425T164222Z
DTSTART:20250925T120100Z
DTEND:20250925T125900Z
SUMMARY:Environmental lawyers under threat: how can the legal community r
 espond?
DESCRIPTION:
LOCATION:
UID:3da02e26-afbb-45bc-beb7-bf9450a1f574
END:VEVENT
END:VCALENDAR
