BEGIN:VCALENDAR
PRODID:-//Session events Calendar//IBA//EN
CALSCALE:GREGORIAN
VERSION:2.0
BEGIN:VEVENT
DTSTAMP:20260420T145727Z
DTSTART:20250919T144500Z
DTEND:20250919T154500Z
SUMMARY:Closing drinks
DESCRIPTION:
LOCATION:
UID:d6b45321-c2b9-4670-97ce-e0b71bef1226
END:VEVENT
END:VCALENDAR
