BEGIN:VCALENDAR
PRODID:-//Session events Calendar//IBA//EN
CALSCALE:GREGORIAN
VERSION:2.0
BEGIN:VEVENT
DTSTAMP:20260425T201314Z
DTSTART:20251002T120100Z
DTEND:20251002T140000Z
SUMMARY:Managing cross-border commercial disputes in the current geopolit
 ical tensions: 
DESCRIPTION:\nA strategic playbook for litigators Join us for an interact
 ive session with leading litigators on how they resolve nowadays common 
 private international law issues in practice.\n\nThe session will cover 
 a number of issues including:\n\n• Choice of law and jurisdiction: when 
 to concede and when to fight\n• Enforcement: achieving efficiencies\n• T
 he impact of international conventions sanctions on the strategic choice
 s and how to address them\n\n\n
LOCATION:DLA Piper
UID:abf3a4cc-ef18-4911-919d-054267d2b23d
END:VEVENT
END:VCALENDAR
