BEGIN:VCALENDAR
PRODID:-//Session events Calendar//IBA//EN
CALSCALE:GREGORIAN
VERSION:2.0
BEGIN:VEVENT
DTSTAMP:20260425T234105Z
DTSTART:20260209T004500Z
DTEND:20260209T010000Z
SUMMARY:Keynote address
DESCRIPTION:
LOCATION:
UID:f46a2ea9-7cbd-4c6f-8ffa-b8060b53acdd
END:VEVENT
END:VCALENDAR
