BEGIN:VCALENDAR
PRODID:-//Session events Calendar//IBA//EN
CALSCALE:GREGORIAN
VERSION:2.0
BEGIN:VEVENT
DTSTAMP:20260425T234105Z
DTSTART:20260209T010000Z
DTEND:20260209T011500Z
SUMMARY:Keynote address
DESCRIPTION:
LOCATION:
UID:86e3eca2-b948-456b-a1e8-c931fdb0ee4e
END:VEVENT
END:VCALENDAR
