BEGIN:VCALENDAR
PRODID:-//Session events Calendar//IBA//EN
CALSCALE:GREGORIAN
VERSION:2.0
BEGIN:VEVENT
DTSTAMP:20260425T234104Z
DTSTART:20260209T080000Z
DTEND:20260209T081000Z
SUMMARY:Closing remarks by Conference Co-Chairs
DESCRIPTION:
LOCATION:
UID:a2167eda-65d5-4508-a852-b72ee21c5a9b
END:VEVENT
END:VCALENDAR
