BEGIN:VCALENDAR
PRODID:-//Session events Calendar//IBA//EN
CALSCALE:GREGORIAN
VERSION:2.0
BEGIN:VEVENT
DTSTAMP:20260425T234104Z
DTSTART:20260210T004000Z
DTEND:20260210T010000Z
SUMMARY:Keynote address
DESCRIPTION:
LOCATION:
UID:ed488fb8-89a5-46c1-ad6a-17d76a5af564
END:VEVENT
END:VCALENDAR
