BEGIN:VCALENDAR
PRODID:-//Session events Calendar//IBA//EN
CALSCALE:GREGORIAN
VERSION:2.0
BEGIN:VEVENT
DTSTAMP:20260425T234105Z
DTSTART:20260210T040000Z
DTEND:20260210T051500Z
SUMMARY:Lunch
DESCRIPTION:
LOCATION:
UID:c30329a7-ff24-424e-8570-0a9421e83a34
END:VEVENT
END:VCALENDAR
