BEGIN:VCALENDAR
PRODID:-//Session events Calendar//IBA//EN
CALSCALE:GREGORIAN
VERSION:2.0
BEGIN:VEVENT
DTSTAMP:20260426T002744Z
DTSTART:20260210T083000Z
DTEND:20260210T084000Z
SUMMARY:Closing remarks by Conference Co-Chairs
DESCRIPTION:
LOCATION:
UID:5c95f882-75a0-4e40-8b55-1640f1cd4e07
END:VEVENT
END:VCALENDAR
